BEGIN:VCALENDAR
VERSION:2.0
PRODID:-//Rotary Club of Point West - Sacramento - ECPv6.15.17//NONSGML v1.0//EN
CALSCALE:GREGORIAN
METHOD:PUBLISH
X-ORIGINAL-URL:https://pointwestrotary.com
X-WR-CALDESC:Events for Rotary Club of Point West - Sacramento
REFRESH-INTERVAL;VALUE=DURATION:PT1H
X-Robots-Tag:noindex
X-PUBLISHED-TTL:PT1H
BEGIN:VTIMEZONE
TZID:America/Los_Angeles
BEGIN:DAYLIGHT
TZOFFSETFROM:-0800
TZOFFSETTO:-0700
TZNAME:PDT
DTSTART:20240310T100000
END:DAYLIGHT
BEGIN:STANDARD
TZOFFSETFROM:-0700
TZOFFSETTO:-0800
TZNAME:PST
DTSTART:20241103T090000
END:STANDARD
BEGIN:DAYLIGHT
TZOFFSETFROM:-0800
TZOFFSETTO:-0700
TZNAME:PDT
DTSTART:20250309T100000
END:DAYLIGHT
BEGIN:STANDARD
TZOFFSETFROM:-0700
TZOFFSETTO:-0800
TZNAME:PST
DTSTART:20251102T090000
END:STANDARD
BEGIN:DAYLIGHT
TZOFFSETFROM:-0800
TZOFFSETTO:-0700
TZNAME:PDT
DTSTART:20260308T100000
END:DAYLIGHT
BEGIN:STANDARD
TZOFFSETFROM:-0700
TZOFFSETTO:-0800
TZNAME:PST
DTSTART:20261101T090000
END:STANDARD
END:VTIMEZONE
BEGIN:VEVENT
DTSTART;TZID=America/Los_Angeles:20250307T073000
DTEND;TZID=America/Los_Angeles:20250307T083000
DTSTAMP:20260421T012703
CREATED:20250203T182610Z
LAST-MODIFIED:20250203T182610Z
UID:1928-1741332600-1741336200@pointwestrotary.com
SUMMARY:PWR Weekly Meeting - Sarah Junkin Woodard - 03.07.25
DESCRIPTION:This week join the Point West Rotary for our weekly meeting at the North Ridge Country Country club. \nJoin us for an exciting meeting where we will hear from Sarah Junkin Woodard…one of our International Partners on a Rotary global grant! Sarah is a founding member of the Ciudad Sandino Rotary Club in Nicaragua and she works with the Jubilee House Community…the recipient of our support through a Rotary global grant. She builds bridges and opens opportunities for international service connections between U.S. Rotarians and Nicaraguans\, actively participating in both COVID-19 relief and hurricane relief efforts. \nThe fun starts at 7am with Breakfast and time to meet with all the PWR Rotarians and the meeting starting at 7:30am.
URL:https://pointwestrotary.com/event/pwr-weekly-meeting-sarah-junkin-woodard-03-07-25/
LOCATION:Northridge Contry Club\, 7600 Madison Ave\, Fair Oaks\, 95628\, United States
CATEGORIES:Club Meeting
ATTACH;FMTTYPE=image/png:https://pointwestrotary.com/wp-content/uploads/Sarah-Junkin-Woodard.png
END:VEVENT
END:VCALENDAR