BEGIN:VCALENDAR
VERSION:2.0
PRODID:-//Rotary Club of Point West - Sacramento - ECPv6.15.17//NONSGML v1.0//EN
CALSCALE:GREGORIAN
METHOD:PUBLISH
X-ORIGINAL-URL:https://pointwestrotary.com
X-WR-CALDESC:Events for Rotary Club of Point West - Sacramento
REFRESH-INTERVAL;VALUE=DURATION:PT1H
X-Robots-Tag:noindex
X-PUBLISHED-TTL:PT1H
BEGIN:VTIMEZONE
TZID:America/Los_Angeles
BEGIN:DAYLIGHT
TZOFFSETFROM:-0800
TZOFFSETTO:-0700
TZNAME:PDT
DTSTART:20230312T100000
END:DAYLIGHT
BEGIN:STANDARD
TZOFFSETFROM:-0700
TZOFFSETTO:-0800
TZNAME:PST
DTSTART:20231105T090000
END:STANDARD
BEGIN:DAYLIGHT
TZOFFSETFROM:-0800
TZOFFSETTO:-0700
TZNAME:PDT
DTSTART:20240310T100000
END:DAYLIGHT
BEGIN:STANDARD
TZOFFSETFROM:-0700
TZOFFSETTO:-0800
TZNAME:PST
DTSTART:20241103T090000
END:STANDARD
BEGIN:DAYLIGHT
TZOFFSETFROM:-0800
TZOFFSETTO:-0700
TZNAME:PDT
DTSTART:20250309T100000
END:DAYLIGHT
BEGIN:STANDARD
TZOFFSETFROM:-0700
TZOFFSETTO:-0800
TZNAME:PST
DTSTART:20251102T090000
END:STANDARD
END:VTIMEZONE
BEGIN:VEVENT
DTSTART;TZID=America/Los_Angeles:20240405T073000
DTEND;TZID=America/Los_Angeles:20240405T083000
DTSTAMP:20260422T142048
CREATED:20240311T174302Z
LAST-MODIFIED:20240311T174422Z
UID:1651-1712302200-1712305800@pointwestrotary.com
SUMMARY:PWR Weekly Meeting - Speaker Dr Sanjay Varshney PhD CFA
DESCRIPTION:This week join the Point West Rotary for our weekly meeting at the Del Paso Country Country club. \nThis Week’s speaker is Dr. Sanjay Varshney\, CFA\, and professor of Finance at Sacramento State University\, Chief Economist and Publisher of the Sacramento Business Review\, and the Founder and Principal at Goldenstone Wealth Management (there will be a quiz to remember all of his titles!) \nBe sure to get there early to grab breakfast and chat with Rotarians! \n 
URL:https://pointwestrotary.com/event/pwr-weekly-meeting-speaker-dr-sanjay-varshney-phd-cfa/
LOCATION:Del Paso Country Club\, 3333 Marconi Ave\, Sacramento\, CA\, 95821\, United States
CATEGORIES:Club Meeting
ATTACH;FMTTYPE=image/jpeg:https://pointwestrotary.com/wp-content/uploads/Dr-Sanay-Varshney.jpg
END:VEVENT
END:VCALENDAR