BEGIN:VCALENDAR
VERSION:2.0
PRODID:-//Rotary Club of Point West - Sacramento - ECPv6.15.17//NONSGML v1.0//EN
CALSCALE:GREGORIAN
METHOD:PUBLISH
X-ORIGINAL-URL:https://pointwestrotary.com
X-WR-CALDESC:Events for Rotary Club of Point West - Sacramento
REFRESH-INTERVAL;VALUE=DURATION:PT1H
X-Robots-Tag:noindex
X-PUBLISHED-TTL:PT1H
BEGIN:VTIMEZONE
TZID:America/Los_Angeles
BEGIN:DAYLIGHT
TZOFFSETFROM:-0800
TZOFFSETTO:-0700
TZNAME:PDT
DTSTART:20230312T100000
END:DAYLIGHT
BEGIN:STANDARD
TZOFFSETFROM:-0700
TZOFFSETTO:-0800
TZNAME:PST
DTSTART:20231105T090000
END:STANDARD
BEGIN:DAYLIGHT
TZOFFSETFROM:-0800
TZOFFSETTO:-0700
TZNAME:PDT
DTSTART:20240310T100000
END:DAYLIGHT
BEGIN:STANDARD
TZOFFSETFROM:-0700
TZOFFSETTO:-0800
TZNAME:PST
DTSTART:20241103T090000
END:STANDARD
BEGIN:DAYLIGHT
TZOFFSETFROM:-0800
TZOFFSETTO:-0700
TZNAME:PDT
DTSTART:20250309T100000
END:DAYLIGHT
BEGIN:STANDARD
TZOFFSETFROM:-0700
TZOFFSETTO:-0800
TZNAME:PST
DTSTART:20251102T090000
END:STANDARD
END:VTIMEZONE
BEGIN:VEVENT
DTSTART;TZID=America/Los_Angeles:20240307T170000
DTEND;TZID=America/Los_Angeles:20240307T183000
DTSTAMP:20260422T124607
CREATED:20240129T193304Z
LAST-MODIFIED:20240129T193439Z
UID:1633-1709830800-1709836200@pointwestrotary.com
SUMMARY:PWR - Young Professionals Happy Hour - Dukes Plates and Pints - 3/7
DESCRIPTION:The Young Professionals Happy Hour (YP Happy Hour) is an opportunity for members and friend of PWR members under 55ish\, to come together and talk shop! We also invite our good friends from the Sacramento\, South Sac\, Orangevale\, and other near by clubs to join in on the fun as well! This is a great opportunity to network with fellow Rotarians to see what is going on in the business world or just hang out and talk about life! \nThis month join the YP crew at Dukes Plates and Pints from 5pm to 6:30ish! Dont be surprised if the fun goes past 630!
URL:https://pointwestrotary.com/event/pwr-young-professionals-happy-hour-dukes-plates-and-pints-3-7/
LOCATION:Dukes Plates and Pints\, 510 La Sierra Dr\, Sacramento\, CA\, 95864\, United States
CATEGORIES:Fun & Fellowship
ATTACH;FMTTYPE=image/png:https://pointwestrotary.com/wp-content/uploads/Dukes-Plates-and-Pints-Logo.png
ORGANIZER;CN="Samantha Hoshida":MAILTO:samantha.hoshida.gamail.com@clubrunner.email
END:VEVENT
END:VCALENDAR