BEGIN:VCALENDAR
VERSION:2.0
PRODID:-//Rotary Club of Point West - Sacramento - ECPv6.15.17//NONSGML v1.0//EN
CALSCALE:GREGORIAN
METHOD:PUBLISH
X-ORIGINAL-URL:https://pointwestrotary.com
X-WR-CALDESC:Events for Rotary Club of Point West - Sacramento
REFRESH-INTERVAL;VALUE=DURATION:PT1H
X-Robots-Tag:noindex
X-PUBLISHED-TTL:PT1H
BEGIN:VTIMEZONE
TZID:America/Los_Angeles
BEGIN:DAYLIGHT
TZOFFSETFROM:-0800
TZOFFSETTO:-0700
TZNAME:PDT
DTSTART:20230312T100000
END:DAYLIGHT
BEGIN:STANDARD
TZOFFSETFROM:-0700
TZOFFSETTO:-0800
TZNAME:PST
DTSTART:20231105T090000
END:STANDARD
BEGIN:DAYLIGHT
TZOFFSETFROM:-0800
TZOFFSETTO:-0700
TZNAME:PDT
DTSTART:20240310T100000
END:DAYLIGHT
BEGIN:STANDARD
TZOFFSETFROM:-0700
TZOFFSETTO:-0800
TZNAME:PST
DTSTART:20241103T090000
END:STANDARD
BEGIN:DAYLIGHT
TZOFFSETFROM:-0800
TZOFFSETTO:-0700
TZNAME:PDT
DTSTART:20250309T100000
END:DAYLIGHT
BEGIN:STANDARD
TZOFFSETFROM:-0700
TZOFFSETTO:-0800
TZNAME:PST
DTSTART:20251102T090000
END:STANDARD
END:VTIMEZONE
BEGIN:VEVENT
DTSTART;TZID=America/Los_Angeles:20240302T160000
DTEND;TZID=America/Los_Angeles:20240302T180000
DTSTAMP:20260422T092541
CREATED:20240117T010752Z
LAST-MODIFIED:20240124T175727Z
UID:1609-1709395200-1709402400@pointwestrotary.com
SUMMARY:PWR Annual Bowling Bash!
DESCRIPTION:Time to slide on those slippy shoes and your craziest bowling outfits for the PWR Annual Bowling Bash! \nTell your family\, friends\, co-workers\, dentist\, grocery bagger\, and anyone else you can! This is your opportunity to break out your craziest bowling outfit and have a great time with long time friend and a chance to meet some new ones! This year the Bowling Bash makes its return Saturday March 2nd at the Country Club Lanes! For just $30 you get bowling\, shoe rental\, and unlimited pizza and soda! \nContact Mike Bede to get your team signed up now!
URL:https://pointwestrotary.com/event/pwr-annual-bowling-bash/
LOCATION:Country Club Lanes\, 2600 Watt Ave\, Sacramento\, CA\, 95821\, United States
CATEGORIES:Fun & Fellowship
ATTACH;FMTTYPE=image/jpeg:https://pointwestrotary.com/wp-content/uploads/bowling-bash.jpg
ORGANIZER;CN="Mike Bede":MAILTO:michaeljbede.gmail.com@clubrunner.email
END:VEVENT
END:VCALENDAR