BEGIN:VCALENDAR
VERSION:2.0
PRODID:-//Rotary Club of Point West - Sacramento - ECPv6.15.17//NONSGML v1.0//EN
CALSCALE:GREGORIAN
METHOD:PUBLISH
X-WR-CALNAME:Rotary Club of Point West - Sacramento
X-ORIGINAL-URL:https://pointwestrotary.com
X-WR-CALDESC:Events for Rotary Club of Point West - Sacramento
REFRESH-INTERVAL;VALUE=DURATION:PT1H
X-Robots-Tag:noindex
X-PUBLISHED-TTL:PT1H
BEGIN:VTIMEZONE
TZID:America/Los_Angeles
BEGIN:DAYLIGHT
TZOFFSETFROM:-0800
TZOFFSETTO:-0700
TZNAME:PDT
DTSTART:20230312T100000
END:DAYLIGHT
BEGIN:STANDARD
TZOFFSETFROM:-0700
TZOFFSETTO:-0800
TZNAME:PST
DTSTART:20231105T090000
END:STANDARD
BEGIN:DAYLIGHT
TZOFFSETFROM:-0800
TZOFFSETTO:-0700
TZNAME:PDT
DTSTART:20240310T100000
END:DAYLIGHT
BEGIN:STANDARD
TZOFFSETFROM:-0700
TZOFFSETTO:-0800
TZNAME:PST
DTSTART:20241103T090000
END:STANDARD
BEGIN:DAYLIGHT
TZOFFSETFROM:-0800
TZOFFSETTO:-0700
TZNAME:PDT
DTSTART:20250309T100000
END:DAYLIGHT
BEGIN:STANDARD
TZOFFSETFROM:-0700
TZOFFSETTO:-0800
TZNAME:PST
DTSTART:20251102T090000
END:STANDARD
END:VTIMEZONE
BEGIN:VEVENT
DTSTART;TZID=America/Los_Angeles:20240209T073000
DTEND;TZID=America/Los_Angeles:20240209T083000
DTSTAMP:20260422T093203
CREATED:20240109T195143Z
LAST-MODIFIED:20240109T195213Z
UID:1598-1707463800-1707467400@pointwestrotary.com
SUMMARY:PWR Weekly Meeting - Speaker Sacramento Sheriff Jim Cooper
DESCRIPTION:This week join the Point West Rotary for our weekly meeting at the Del Paso Country Country club. \nJoin us this week’s as we welcome Sacramento Sheriff Jim Miller as our speaker! In addition to currently serving as Sacramento Sheriff\, Sheriff Miller is a former CA State Assemblyman and Mayor & Councilman of Elk Grove. We are in for some great insights to the current status of many of the issues Sacramento County how the Sheriff’s department are dealing with them.\n \nMeeting starts at 7:30am\, but be sure to arrive early to meet new and old friend and a great buffet breakfast! \n 
URL:https://pointwestrotary.com/event/pwr-weekly-meeting-speaker-sacramento-sheriff-jim-cooper/
LOCATION:Del Paso Country Club\, 3333 Marconi Ave\, Sacramento\, CA\, 95821\, United States
CATEGORIES:Club Meeting
ATTACH;FMTTYPE=image/jpeg:https://pointwestrotary.com/wp-content/uploads/Sacramento-Sheriff-Jim-Cooper.jpg
END:VEVENT
END:VCALENDAR